BEGIN:VCALENDAR
VERSION:2.0
PRODID:-//OmniMagnetCalendar//EN
BEGIN:VEVENT
DTSTAMP:20190625T195740Z
STATUS:CONFIRMED
UID:princetonclubofchicago.org1087
DTSTART:20260418T134500Z
DTEND:20260418T160000Z
LOCATION:Wilbur Wright College, 4300 N Narragansett Ave, Chicago, IL,
SUMMARY:PCC's 150TH ANNIVERSARY VOLUNTEER WEEK: CAREER COACHING - SATURDAY APRIL 18
DESCRIPTION:Volunteer as a career coach for community college students of all ages, including those re-entering the workforce, through professional development and mock interviews. REGISTER BY APRIL 15!
BEGIN:VALARM
TRIGGER:-PT15M
ACTION:DISPLAY
END:VALARM
TRANSP:OPAQUE
END:VEVENT
END:VCALENDAR
