BEGIN:VCALENDAR
VERSION:2.0
PRODID:-//OmniMagnetCalendar//EN
BEGIN:VEVENT
DTSTAMP:20190625T195740Z
STATUS:CONFIRMED
UID:princetonclubofchicago.org1086
DTSTART:20260425T140000Z
DTEND:20260425T160000Z
LOCATION:The Dock at Montrose Beach, 200 W Montrose Harbor Dr, Chicago, IL,
SUMMARY:PCC’S 150TH ANNIVERSARY VOLUNTEER WEEK: TIGER BEACH CLEAN-UP - SATURDAY APRIL 25
DESCRIPTION:Join the PCC and The Alliance for the Great Lakes for our 3rd annual family friendly beach clean-up! This event is part of the PCC’s 150th anniversary week of service.
BEGIN:VALARM
TRIGGER:-PT15M
ACTION:DISPLAY
END:VALARM
TRANSP:OPAQUE
END:VEVENT
END:VCALENDAR
