BEGIN:VCALENDAR
VERSION:2.0
PRODID:-//OmniMagnetCalendar//EN
BEGIN:VEVENT
DTSTAMP:20190625T195740Z
STATUS:CONFIRMED
UID:princetonclubofchicago.org1072
DTSTART:20260427T223000Z
DTEND:20260428T020000Z
LOCATION:Recess/City Hall, 838 W Kinzie, Chicago, IL,
SUMMARY:2026 ANNUAL DINNER - "150 STRIPES" -  APRIL 27, 2026
DESCRIPTION:The Princeton Club of Chicago cordially invites you to celebrate the Club's 150th year at the West Loop's historic City Hall/Recess.  REGISTRATION OFFICIALLY CLOSED APRIL 17 AT NOON.
BEGIN:VALARM
TRIGGER:-PT15M
ACTION:DISPLAY
END:VALARM
TRANSP:OPAQUE
END:VEVENT
END:VCALENDAR
