BEGIN:VCALENDAR
VERSION:2.0
PRODID:-//OmniMagnetCalendar//EN
BEGIN:VEVENT
DTSTAMP:20190625T195740Z
STATUS:CONFIRMED
UID:princetonclubofchicago.org1039
DTSTART:20251026T173000Z
DTEND:20251026T193000Z
LOCATION:Chicago Curry House, 899 S. Plymouth Ct, Chicago, IL, 60605,
SUMMARY:DIWALI LUNCHEON AT CHICAGO CURRY HOUSE - SUNDAY, OCTOBER 26, 2025
DESCRIPTION:Celebrate Diwali with Tigers and friends. RSVP by October 24.
BEGIN:VALARM
TRIGGER:-PT15M
ACTION:DISPLAY
END:VALARM
TRANSP:OPAQUE
END:VEVENT
END:VCALENDAR
